BEGIN:VCALENDAR
VERSION:2.0
PRODID:-//Savannah Ridge - ECPv6.15.20//NONSGML v1.0//EN
CALSCALE:GREGORIAN
METHOD:PUBLISH
X-ORIGINAL-URL:https://savannahridgehoa.com
X-WR-CALDESC:Events for Savannah Ridge
REFRESH-INTERVAL;VALUE=DURATION:PT1H
X-Robots-Tag:noindex
X-PUBLISHED-TTL:PT1H
BEGIN:VTIMEZONE
TZID:America/Chicago
BEGIN:DAYLIGHT
TZOFFSETFROM:-0600
TZOFFSETTO:-0500
TZNAME:CDT
DTSTART:20220313T080000
END:DAYLIGHT
BEGIN:STANDARD
TZOFFSETFROM:-0500
TZOFFSETTO:-0600
TZNAME:CST
DTSTART:20221106T070000
END:STANDARD
BEGIN:DAYLIGHT
TZOFFSETFROM:-0600
TZOFFSETTO:-0500
TZNAME:CDT
DTSTART:20230312T080000
END:DAYLIGHT
BEGIN:STANDARD
TZOFFSETFROM:-0500
TZOFFSETTO:-0600
TZNAME:CST
DTSTART:20231105T070000
END:STANDARD
BEGIN:DAYLIGHT
TZOFFSETFROM:-0600
TZOFFSETTO:-0500
TZNAME:CDT
DTSTART:20240310T080000
END:DAYLIGHT
BEGIN:STANDARD
TZOFFSETFROM:-0500
TZOFFSETTO:-0600
TZNAME:CST
DTSTART:20241103T070000
END:STANDARD
END:VTIMEZONE
BEGIN:VEVENT
DTSTART;VALUE=DATE:20231020
DTEND;VALUE=DATE:20231022
DTSTAMP:20260419T210653
CREATED:20231003T013311Z
LAST-MODIFIED:20231002T233613Z
UID:1042-1697760000-1697932799@savannahridgehoa.com
SUMMARY:Fall Community Yard Sale
DESCRIPTION:Yard sale open to the entire Murfreesboro community.
URL:https://savannahridgehoa.com/event/fall-community-yard-sale/
LOCATION:Savannah Ridge HOA
ATTACH;FMTTYPE=image/png:https://savannahridgehoa.com/wp-content/uploads/2023/10/image2.png
END:VEVENT
END:VCALENDAR