BEGIN:VCALENDAR
VERSION:2.0
PRODID:-//Savannah Ridge - ECPv6.15.20//NONSGML v1.0//EN
CALSCALE:GREGORIAN
METHOD:PUBLISH
X-ORIGINAL-URL:https://savannahridgehoa.com
X-WR-CALDESC:Events for Savannah Ridge
REFRESH-INTERVAL;VALUE=DURATION:PT1H
X-Robots-Tag:noindex
X-PUBLISHED-TTL:PT1H
BEGIN:VTIMEZONE
TZID:America/Chicago
BEGIN:DAYLIGHT
TZOFFSETFROM:-0600
TZOFFSETTO:-0500
TZNAME:CDT
DTSTART:20230312T080000
END:DAYLIGHT
BEGIN:STANDARD
TZOFFSETFROM:-0500
TZOFFSETTO:-0600
TZNAME:CST
DTSTART:20231105T070000
END:STANDARD
BEGIN:DAYLIGHT
TZOFFSETFROM:-0600
TZOFFSETTO:-0500
TZNAME:CDT
DTSTART:20240310T080000
END:DAYLIGHT
BEGIN:STANDARD
TZOFFSETFROM:-0500
TZOFFSETTO:-0600
TZNAME:CST
DTSTART:20241103T070000
END:STANDARD
BEGIN:DAYLIGHT
TZOFFSETFROM:-0600
TZOFFSETTO:-0500
TZNAME:CDT
DTSTART:20250309T080000
END:DAYLIGHT
BEGIN:STANDARD
TZOFFSETFROM:-0500
TZOFFSETTO:-0600
TZNAME:CST
DTSTART:20251102T070000
END:STANDARD
END:VTIMEZONE
BEGIN:VEVENT
DTSTART;VALUE=DATE:20240419
DTEND;VALUE=DATE:20240421
DTSTAMP:20260419T082059
CREATED:20240120T202509Z
LAST-MODIFIED:20240120T205252Z
UID:1379-1713484800-1713657599@savannahridgehoa.com
SUMMARY:Spring Yard Sale
DESCRIPTION:April 26th – April 27th: “Rain Dates”
URL:https://savannahridgehoa.com/event/spring-yard-sale/
LOCATION:Tennessee
ATTACH;FMTTYPE=image/png:https://savannahridgehoa.com/wp-content/uploads/2024/01/9249E57A-A0AA-4B26-8AA4-0FF95169FDDB.png
END:VEVENT
BEGIN:VEVENT
DTSTART;TZID=America/Chicago:20240420T133000
DTEND;TZID=America/Chicago:20240420T163000
DTSTAMP:20260419T082059
CREATED:20240411T020129Z
LAST-MODIFIED:20240411T020308Z
UID:1474-1713619800-1713630600@savannahridgehoa.com
SUMMARY:Pavilion Reserved
DESCRIPTION:
URL:https://savannahridgehoa.com/event/pavilion-reserved-130pm-430pm/
LOCATION:Savannah Ridge Pavilion
END:VEVENT
BEGIN:VEVENT
DTSTART;TZID=America/Chicago:20240427T100000
DTEND;TZID=America/Chicago:20240427T140000
DTSTAMP:20260419T082059
CREATED:20240426T194237Z
LAST-MODIFIED:20240426T194237Z
UID:1488-1714212000-1714226400@savannahridgehoa.com
SUMMARY:Pavilion Reserved
DESCRIPTION:
URL:https://savannahridgehoa.com/event/pavilion-reserved/
LOCATION:Savannah Ridge Pavilion
END:VEVENT
END:VCALENDAR